Package: Wrench Version: 1.22.0 Command: rm -rf Wrench.buildbin-libdir && mkdir Wrench.buildbin-libdir && /Users/biocbuild/BBS/utils/build-universal.sh Wrench_1.22.0.tar.gz /Library/Frameworks/R.framework/Resources/bin/R Wrench.buildbin-libdir StartedAt: 2024-10-15 20:50:20 -0400 (Tue, 15 Oct 2024) EndedAt: 2024-10-15 20:50:26 -0400 (Tue, 15 Oct 2024) EllapsedTime: 5.8 seconds RetCode: 0 Status: OK PackageFile: Wrench_1.22.0.tgz PackageFileSize: 265.7 KiB