Package: VplotR Version: 1.14.0 Command: E:\biocbuild\bbs-3.19-bioc\R\bin\R.exe CMD check --no-multiarch --install=check:VplotR.install-out.txt --library=E:\biocbuild\bbs-3.19-bioc\R\library --no-vignettes --timings VplotR_1.14.0.tar.gz StartedAt: 2024-10-17 06:52:24 -0400 (Thu, 17 Oct 2024) EndedAt: 2024-10-17 06:58:52 -0400 (Thu, 17 Oct 2024) EllapsedTime: 387.8 seconds RetCode: 0 Status: OK CheckDir: VplotR.Rcheck Warnings: 0