Package: VplotR Version: 1.14.0 Command: /home/biocbuild/bbs-3.19-bioc/R/bin/R CMD INSTALL VplotR StartedAt: 2024-10-16 16:02:55 -0400 (Wed, 16 Oct 2024) EndedAt: 2024-10-16 16:03:23 -0400 (Wed, 16 Oct 2024) EllapsedTime: 27.7 seconds RetCode: 0 Status: OK