Package: VplotR Version: 1.14.0 Command: /home/biocbuild/R/R-beta-2024-04-15_r86425/bin/R CMD build --keep-empty-dirs --no-resave-data VplotR StartedAt: 2024-05-09 04:20:29 -0000 (Thu, 09 May 2024) EndedAt: 2024-05-09 04:23:07 -0000 (Thu, 09 May 2024) EllapsedTime: 157.2 seconds RetCode: 0 Status: OK PackageFile: VplotR_1.14.0.tar.gz PackageFileSize: 4.978 MiB