Package: VplotR Version: 1.14.0 Command: /Library/Frameworks/R.framework/Resources/bin/R CMD INSTALL VplotR StartedAt: 2024-10-16 16:25:03 -0400 (Wed, 16 Oct 2024) EndedAt: 2024-10-16 16:25:37 -0400 (Wed, 16 Oct 2024) EllapsedTime: 34.1 seconds RetCode: 0 Status: OK