Package: VplotR Version: 1.14.0 Command: /Library/Frameworks/R.framework/Resources/bin/R CMD check --install=check:VplotR.install-out.txt --library=/Library/Frameworks/R.framework/Resources/library --no-vignettes --timings VplotR_1.14.0.tar.gz StartedAt: 2024-10-18 16:33:54 -0400 (Fri, 18 Oct 2024) EndedAt: 2024-10-18 16:40:08 -0400 (Fri, 18 Oct 2024) EllapsedTime: 374.0 seconds RetCode: 0 Status: OK CheckDir: VplotR.Rcheck Warnings: 0