Package: VplotR Version: 1.14.0 Command: rm -rf VplotR.buildbin-libdir && mkdir VplotR.buildbin-libdir && /Users/biocbuild/BBS/utils/build-universal.sh VplotR_1.14.0.tar.gz /Library/Frameworks/R.framework/Resources/bin/R VplotR.buildbin-libdir StartedAt: 2024-10-15 20:48:34 -0400 (Tue, 15 Oct 2024) EndedAt: 2024-10-15 20:49:16 -0400 (Tue, 15 Oct 2024) EllapsedTime: 42.9 seconds RetCode: 0 Status: OK PackageFile: VplotR_1.14.0.tgz PackageFileSize: 5.278 MiB