Package: Voyager Version: 1.6.0 Command: chmod a+r Voyager -R && F:\biocbuild\bbs-3.19-bioc\R\bin\R.exe CMD build --keep-empty-dirs --no-resave-data Voyager StartedAt: 2024-06-26 22:33:28 -0400 (Wed, 26 Jun 2024) EndedAt: 2024-06-26 22:35:43 -0400 (Wed, 26 Jun 2024) EllapsedTime: 135.7 seconds RetCode: 0 Status: OK PackageFile: Voyager_1.6.0.tar.gz PackageFileSize: 2.898 MiB