Package: Voyager Version: 1.6.0 Command: rm -rf Voyager.buildbin-libdir && mkdir Voyager.buildbin-libdir && F:\biocbuild\bbs-3.19-bioc\R\bin\R.exe CMD INSTALL --build --library=Voyager.buildbin-libdir Voyager_1.6.0.tar.gz StartedAt: 2024-06-27 09:05:59 -0400 (Thu, 27 Jun 2024) EndedAt: 2024-06-27 09:07:10 -0400 (Thu, 27 Jun 2024) EllapsedTime: 70.6 seconds RetCode: 0 Status: OK PackageFile: Voyager_1.6.0.zip PackageFileSize: 2.862 MiB