Package: VisiumIO Version: 1.0.0 Command: rm -rf VisiumIO.buildbin-libdir && mkdir VisiumIO.buildbin-libdir && E:\biocbuild\bbs-3.19-bioc\R\bin\R.exe CMD INSTALL --build --library=VisiumIO.buildbin-libdir VisiumIO_1.0.0.tar.gz StartedAt: 2024-10-17 08:50:30 -0400 (Thu, 17 Oct 2024) EndedAt: 2024-10-17 08:51:01 -0400 (Thu, 17 Oct 2024) EllapsedTime: 31.5 seconds RetCode: 0 Status: OK PackageFile: VisiumIO_1.0.0.zip PackageFileSize: 284.9 KiB