Package: VisiumIO Version: 1.0.0 Command: /home/biocbuild/bbs-3.19-bioc/R/bin/R CMD INSTALL VisiumIO StartedAt: 2024-10-16 16:03:07 -0400 (Wed, 16 Oct 2024) EndedAt: 2024-10-16 16:03:31 -0400 (Wed, 16 Oct 2024) EllapsedTime: 24.0 seconds RetCode: 0 Status: OK