Package: VisiumIO Version: 1.0.0 Command: /home/biocbuild/bbs-3.19-bioc/R/bin/R CMD check --install=check:VisiumIO.install-out.txt --library=/home/biocbuild/bbs-3.19-bioc/R/site-library --timings VisiumIO_1.0.0.tar.gz StartedAt: 2024-10-17 06:17:17 -0400 (Thu, 17 Oct 2024) EndedAt: 2024-10-17 06:20:26 -0400 (Thu, 17 Oct 2024) EllapsedTime: 189.4 seconds RetCode: 0 Status: OK CheckDir: VisiumIO.Rcheck Warnings: 0