Package: VisiumIO Version: 1.0.0 Command: /home/biocbuild/bbs-3.19-bioc/R/bin/R CMD build --keep-empty-dirs --no-resave-data VisiumIO StartedAt: 2024-10-16 21:19:56 -0400 (Wed, 16 Oct 2024) EndedAt: 2024-10-16 21:20:33 -0400 (Wed, 16 Oct 2024) EllapsedTime: 37.1 seconds RetCode: 0 Status: OK PackageFile: VisiumIO_1.0.0.tar.gz PackageFileSize: 228.4 KiB