Package: VisiumIO Version: 1.0.0 Command: /Library/Frameworks/R.framework/Resources/bin/R CMD INSTALL VisiumIO StartedAt: 2024-10-16 16:15:38 -0400 (Wed, 16 Oct 2024) EndedAt: 2024-10-16 16:16:09 -0400 (Wed, 16 Oct 2024) EllapsedTime: 30.7 seconds RetCode: 0 Status: OK