Package: VisiumIO Version: 1.0.0 Command: /Library/Frameworks/R.framework/Resources/bin/R CMD build --keep-empty-dirs --no-resave-data VisiumIO StartedAt: 2024-10-17 11:25:21 -0400 (Thu, 17 Oct 2024) EndedAt: 2024-10-17 11:26:09 -0400 (Thu, 17 Oct 2024) EllapsedTime: 47.9 seconds RetCode: 0 Status: OK PackageFile: VisiumIO_1.0.0.tar.gz PackageFileSize: 228.3 KiB