Package: ViSEAGO Version: 1.18.0 Command: /home/biocbuild/bbs-3.19-bioc/R/bin/R CMD INSTALL ViSEAGO StartedAt: 2024-10-16 16:37:23 -0400 (Wed, 16 Oct 2024) EndedAt: 2024-10-16 16:37:52 -0400 (Wed, 16 Oct 2024) EllapsedTime: 29.7 seconds RetCode: 0 Status: OK