Package: ViSEAGO Version: 1.18.0 Command: /home/biocbuild/bbs-3.19-bioc/R/bin/R CMD check --install=check:ViSEAGO.install-out.txt --library=/home/biocbuild/bbs-3.19-bioc/R/site-library --timings ViSEAGO_1.18.0.tar.gz StartedAt: 2024-10-17 06:17:16 -0400 (Thu, 17 Oct 2024) EndedAt: 2024-10-17 06:21:00 -0400 (Thu, 17 Oct 2024) EllapsedTime: 224.4 seconds RetCode: 0 Status: WARNINGS CheckDir: ViSEAGO.Rcheck Warnings: 4