Package: ViSEAGO Version: 1.18.0 Command: rm -rf ViSEAGO.buildbin-libdir && mkdir ViSEAGO.buildbin-libdir && /Users/biocbuild/BBS/utils/build-universal.sh ViSEAGO_1.18.0.tar.gz /Library/Frameworks/R.framework/Resources/bin/R ViSEAGO.buildbin-libdir StartedAt: 2024-10-17 17:26:15 -0400 (Thu, 17 Oct 2024) EndedAt: 2024-10-17 17:28:22 -0400 (Thu, 17 Oct 2024) EllapsedTime: 126.9 seconds RetCode: 0 Status: OK PackageFile: ViSEAGO_1.18.0.tgz PackageFileSize: 9.086 MiB