Package: ViSEAGO Version: 1.18.0 Command: /Library/Frameworks/R.framework/Resources/bin/R CMD INSTALL ViSEAGO StartedAt: 2024-10-16 18:32:30 -0400 (Wed, 16 Oct 2024) EndedAt: 2024-10-16 18:33:06 -0400 (Wed, 16 Oct 2024) EllapsedTime: 36.2 seconds RetCode: 0 Status: OK