Package: VegaMC Version: 3.42.0 Command: rm -rf VegaMC.buildbin-libdir && mkdir VegaMC.buildbin-libdir && F:\biocbuild\bbs-3.19-bioc\R\bin\R.exe CMD INSTALL --build --library=VegaMC.buildbin-libdir VegaMC_3.42.0.tar.gz StartedAt: 2024-06-27 09:05:39 -0400 (Thu, 27 Jun 2024) EndedAt: 2024-06-27 09:06:10 -0400 (Thu, 27 Jun 2024) EllapsedTime: 30.6 seconds RetCode: 0 Status: OK PackageFile: VegaMC_3.42.0.zip PackageFileSize: 1.708 MiB