Package: VegaMC Version: 3.42.0 Command: /home/biocbuild/R/R-beta-2024-04-15_r86425/bin/R CMD INSTALL VegaMC StartedAt: 2024-05-08 20:25:52 -0000 (Wed, 08 May 2024) EndedAt: 2024-05-08 20:26:14 -0000 (Wed, 08 May 2024) EllapsedTime: 21.8 seconds RetCode: 0 Status: OK