Package: VegaMC Version: 3.42.0 Command: /home/biocbuild/R/R-beta-2024-04-15_r86425/bin/R CMD build --keep-empty-dirs --no-resave-data VegaMC StartedAt: 2024-05-09 04:18:43 -0000 (Thu, 09 May 2024) EndedAt: 2024-05-09 04:19:13 -0000 (Thu, 09 May 2024) EllapsedTime: 30.0 seconds RetCode: 0 Status: OK PackageFile: VegaMC_3.42.0.tar.gz PackageFileSize: 1.765 MiB