Package: VegaMC Version: 3.42.0 Maintainer: Sandro Morganella MaintainerEmail: morganellaalx at gmail.com git_url: https://git.bioconductor.org/packages/VegaMC git_branch: RELEASE_3_19 git_last_commit: 1f084a1 git_last_commit_date: 2024-04-30 10:27:21 -0400 (Tue, 30 Apr 2024)