Package: VariantTools Version: 1.46.0 Command: rm -rf VariantTools.buildbin-libdir && mkdir VariantTools.buildbin-libdir && E:\biocbuild\bbs-3.19-bioc\R\bin\R.exe CMD INSTALL --build --library=VariantTools.buildbin-libdir VariantTools_1.46.0.tar.gz StartedAt: 2024-10-17 08:50:07 -0400 (Thu, 17 Oct 2024) EndedAt: 2024-10-17 08:51:33 -0400 (Thu, 17 Oct 2024) EllapsedTime: 85.3 seconds RetCode: 0 Status: OK PackageFile: VariantTools_1.46.0.zip PackageFileSize: 6.314 MiB