Package: VariantTools Version: 1.46.0 Command: F:\biocbuild\bbs-3.19-bioc\R\bin\R.exe CMD INSTALL VariantTools StartedAt: 2024-06-26 16:11:06 -0400 (Wed, 26 Jun 2024) EndedAt: 2024-06-26 16:12:01 -0400 (Wed, 26 Jun 2024) EllapsedTime: 54.7 seconds RetCode: 0 Status: OK