Package: VariantTools Version: 1.46.0 Command: chmod a+r VariantTools -R && F:\biocbuild\bbs-3.19-bioc\R\bin\R.exe CMD build --keep-empty-dirs --no-resave-data VariantTools StartedAt: 2024-06-26 22:31:34 -0400 (Wed, 26 Jun 2024) EndedAt: 2024-06-26 22:33:02 -0400 (Wed, 26 Jun 2024) EllapsedTime: 88.1 seconds RetCode: 0 Status: OK PackageFile: VariantTools_1.46.0.tar.gz PackageFileSize: 5.969 MiB