Package: VariantTools Version: 1.46.0 Command: rm -rf VariantTools.buildbin-libdir && mkdir VariantTools.buildbin-libdir && F:\biocbuild\bbs-3.19-bioc\R\bin\R.exe CMD INSTALL --build --library=VariantTools.buildbin-libdir VariantTools_1.46.0.tar.gz StartedAt: 2024-06-27 09:05:29 -0400 (Thu, 27 Jun 2024) EndedAt: 2024-06-27 09:06:34 -0400 (Thu, 27 Jun 2024) EllapsedTime: 64.6 seconds RetCode: 0 Status: OK PackageFile: VariantTools_1.46.0.zip PackageFileSize: 6.313 MiB