Package: VariantTools Version: 1.46.0 Command: /Library/Frameworks/R.framework/Resources/bin/R CMD check --install=check:VariantTools.install-out.txt --library=/Library/Frameworks/R.framework/Resources/library --no-vignettes --timings VariantTools_1.46.0.tar.gz StartedAt: 2024-10-17 14:54:35 -0400 (Thu, 17 Oct 2024) EndedAt: 2024-10-17 15:08:18 -0400 (Thu, 17 Oct 2024) EllapsedTime: 822.9 seconds RetCode: 0 Status: WARNINGS CheckDir: VariantTools.Rcheck Warnings: 2