Package: VariantTools Version: 1.46.0 Command: rm -rf VariantTools.buildbin-libdir && mkdir VariantTools.buildbin-libdir && /Users/biocbuild/BBS/utils/build-universal.sh VariantTools_1.46.0.tar.gz /Library/Frameworks/R.framework/Resources/bin/R VariantTools.buildbin-libdir StartedAt: 2024-06-10 00:45:08 -0400 (Mon, 10 Jun 2024) EndedAt: 2024-06-10 00:46:05 -0400 (Mon, 10 Jun 2024) EllapsedTime: 57.0 seconds RetCode: 0 Status: OK PackageFile: VariantTools_1.46.0.tgz PackageFileSize: 6.291 MiB