Package: VariantTools Version: 1.46.0 Command: /Library/Frameworks/R.framework/Resources/bin/R CMD build --keep-empty-dirs --no-resave-data VariantTools StartedAt: 2024-10-17 11:18:47 -0400 (Thu, 17 Oct 2024) EndedAt: 2024-10-17 11:20:26 -0400 (Thu, 17 Oct 2024) EllapsedTime: 99.0 seconds RetCode: 0 Status: OK PackageFile: VariantTools_1.46.0.tar.gz PackageFileSize: 5.968 MiB