Package: VariantTools Version: 1.46.0 Command: rm -rf VariantTools.buildbin-libdir && mkdir VariantTools.buildbin-libdir && /Users/biocbuild/BBS/utils/build-universal.sh VariantTools_1.46.0.tar.gz /Library/Frameworks/R.framework/Resources/bin/R VariantTools.buildbin-libdir StartedAt: 2024-10-15 20:46:51 -0400 (Tue, 15 Oct 2024) EndedAt: 2024-10-15 20:47:52 -0400 (Tue, 15 Oct 2024) EllapsedTime: 60.2 seconds RetCode: 0 Status: OK PackageFile: VariantTools_1.46.0.tgz PackageFileSize: 6.286 MiB