Package: VariantExperiment Version: 1.18.1 Command: chmod a+r VariantExperiment -R && E:\biocbuild\bbs-3.19-bioc\R\bin\R.exe CMD build --keep-empty-dirs --no-resave-data VariantExperiment StartedAt: 2024-10-16 22:29:00 -0400 (Wed, 16 Oct 2024) EndedAt: 2024-10-16 22:29:47 -0400 (Wed, 16 Oct 2024) EllapsedTime: 46.7 seconds RetCode: 1 Status: ERROR PackageFile: None PackageFileSize: NA