Package: VariantExperiment Version: 1.18.1 Command: /home/biocbuild/bbs-3.19-bioc/R/bin/R CMD INSTALL VariantExperiment StartedAt: 2024-10-16 15:57:07 -0400 (Wed, 16 Oct 2024) EndedAt: 2024-10-16 15:57:31 -0400 (Wed, 16 Oct 2024) EllapsedTime: 23.5 seconds RetCode: 0 Status: OK