Package: VariantExperiment Version: 1.17.0 Command: rm -rf VariantExperiment.buildbin-libdir && mkdir VariantExperiment.buildbin-libdir && /Users/biocbuild/BBS/utils/build-universal.sh VariantExperiment_1.17.0.tar.gz /Library/Frameworks/R.framework/Resources/bin/R VariantExperiment.buildbin-libdir StartedAt: 2024-02-08 11:51:10 -0500 (Thu, 08 Feb 2024) EndedAt: 2024-02-08 11:52:07 -0500 (Thu, 08 Feb 2024) EllapsedTime: 57.1 seconds RetCode: 0 Status: OK PackageFile: VariantExperiment_1.17.0.tgz PackageFileSize: 408 KiB