Package: VariantExperiment Version: 1.18.1 Command: /Library/Frameworks/R.framework/Resources/bin/R CMD INSTALL VariantExperiment StartedAt: 2024-06-09 15:10:56 -0400 (Sun, 09 Jun 2024) EndedAt: 2024-06-09 15:11:27 -0400 (Sun, 09 Jun 2024) EllapsedTime: 31.1 seconds RetCode: 0 Status: OK