Package: VariantExperiment Version: 1.18.1 Command: /Library/Frameworks/R.framework/Resources/bin/R CMD INSTALL VariantExperiment StartedAt: 2024-10-16 15:57:35 -0400 (Wed, 16 Oct 2024) EndedAt: 2024-10-16 15:58:03 -0400 (Wed, 16 Oct 2024) EllapsedTime: 28.1 seconds RetCode: 0 Status: OK