Package: VariantAnnotation Version: 1.50.0 Command: rm -rf VariantAnnotation.buildbin-libdir && mkdir VariantAnnotation.buildbin-libdir && F:\biocbuild\bbs-3.19-bioc\R\bin\R.exe CMD INSTALL --build --library=VariantAnnotation.buildbin-libdir VariantAnnotation_1.50.0.tar.gz StartedAt: 2024-06-27 09:05:26 -0400 (Thu, 27 Jun 2024) EndedAt: 2024-06-27 09:07:28 -0400 (Thu, 27 Jun 2024) EllapsedTime: 122.1 seconds RetCode: 0 Status: OK PackageFile: VariantAnnotation_1.50.0.zip PackageFileSize: 8.328 MiB