Package: VariantAnnotation Version: 1.50.0 Command: /home/biocbuild/bbs-3.19-bioc/R/bin/R CMD INSTALL VariantAnnotation StartedAt: 2024-10-16 16:07:23 -0400 (Wed, 16 Oct 2024) EndedAt: 2024-10-16 16:08:31 -0400 (Wed, 16 Oct 2024) EllapsedTime: 67.7 seconds RetCode: 0 Status: OK