Package: VariantAnnotation Version: 1.50.0 Command: /home/biocbuild/bbs-3.19-bioc/R/bin/R CMD build --keep-empty-dirs --no-resave-data VariantAnnotation StartedAt: 2024-10-16 21:17:58 -0400 (Wed, 16 Oct 2024) EndedAt: 2024-10-16 21:20:38 -0400 (Wed, 16 Oct 2024) EllapsedTime: 160.3 seconds RetCode: 0 Status: OK PackageFile: VariantAnnotation_1.50.0.tar.gz PackageFileSize: 2.016 MiB