Package: VariantAnnotation Version: 1.50.0 Command: /Library/Frameworks/R.framework/Resources/bin/R CMD INSTALL VariantAnnotation StartedAt: 2024-10-16 15:38:36 -0400 (Wed, 16 Oct 2024) EndedAt: 2024-10-16 15:41:14 -0400 (Wed, 16 Oct 2024) EllapsedTime: 157.7 seconds RetCode: 0 Status: OK