Package: VariantAnnotation Version: 1.50.0 Command: /Library/Frameworks/R.framework/Resources/bin/R CMD build --keep-empty-dirs --no-resave-data VariantAnnotation StartedAt: 2024-10-17 00:11:46 -0400 (Thu, 17 Oct 2024) EndedAt: 2024-10-17 00:17:12 -0400 (Thu, 17 Oct 2024) EllapsedTime: 326.2 seconds RetCode: 1 Status: ERROR PackageFile: None PackageFileSize: NA