Package: VariantAnnotation Version: 1.50.0 Command: /home/biocbuild/R/R-beta-2024-04-15_r86425/bin/R CMD check --install=check:VariantAnnotation.install-out.txt --library=/home/biocbuild/R/R-beta-2024-04-15_r86425/site-library --no-vignettes --timings VariantAnnotation_1.50.0.tar.gz StartedAt: 2024-05-08 13:01:12 -0000 (Wed, 08 May 2024) EndedAt: 2024-05-08 13:11:35 -0000 (Wed, 08 May 2024) EllapsedTime: 623.1 seconds RetCode: 0 Status: WARNINGS CheckDir: VariantAnnotation.Rcheck Warnings: 2