Package: VariantAnnotation Version: 1.50.0 Command: /Library/Frameworks/R.framework/Resources/bin/R CMD check --install=check:VariantAnnotation.install-out.txt --library=/Library/Frameworks/R.framework/Resources/library --no-vignettes --timings VariantAnnotation_1.50.0.tar.gz StartedAt: 2024-06-11 09:17:28 -0400 (Tue, 11 Jun 2024) EndedAt: 2024-06-11 09:29:18 -0400 (Tue, 11 Jun 2024) EllapsedTime: 709.3 seconds RetCode: 0 Status: WARNINGS CheckDir: VariantAnnotation.Rcheck Warnings: 2