Package: VanillaICE Version: 1.66.0 Command: E:\biocbuild\bbs-3.19-bioc\R\bin\R.exe CMD INSTALL VanillaICE StartedAt: 2024-10-16 16:29:51 -0400 (Wed, 16 Oct 2024) EndedAt: 2024-10-16 16:31:23 -0400 (Wed, 16 Oct 2024) EllapsedTime: 92.0 seconds RetCode: 0 Status: OK