Package: VanillaICE Version: 1.66.0 Command: rm -rf VanillaICE.buildbin-libdir && mkdir VanillaICE.buildbin-libdir && E:\biocbuild\bbs-3.19-bioc\R\bin\R.exe CMD INSTALL --build --library=VanillaICE.buildbin-libdir VanillaICE_1.66.0.tar.gz StartedAt: 2024-10-17 08:49:58 -0400 (Thu, 17 Oct 2024) EndedAt: 2024-10-17 08:52:05 -0400 (Thu, 17 Oct 2024) EllapsedTime: 127.1 seconds RetCode: 0 Status: OK PackageFile: VanillaICE_1.66.0.zip PackageFileSize: 2.717 MiB