Package: VanillaICE Version: 1.66.0 Command: F:\biocbuild\bbs-3.19-bioc\R\bin\R.exe CMD INSTALL VanillaICE StartedAt: 2024-06-26 16:07:37 -0400 (Wed, 26 Jun 2024) EndedAt: 2024-06-26 16:08:45 -0400 (Wed, 26 Jun 2024) EllapsedTime: 67.7 seconds RetCode: 0 Status: OK