Package: VanillaICE Version: 1.66.0 Command: F:\biocbuild\bbs-3.19-bioc\R\bin\R.exe CMD check --no-multiarch --install=check:VanillaICE.install-out.txt --library=F:\biocbuild\bbs-3.19-bioc\R\library --no-vignettes --timings VanillaICE_1.66.0.tar.gz StartedAt: 2024-06-27 07:16:02 -0400 (Thu, 27 Jun 2024) EndedAt: 2024-06-27 07:21:21 -0400 (Thu, 27 Jun 2024) EllapsedTime: 319.5 seconds RetCode: 0 Status: OK CheckDir: VanillaICE.Rcheck Warnings: 0