Package: VanillaICE Version: 1.66.0 Command: chmod a+r VanillaICE -R && F:\biocbuild\bbs-3.19-bioc\R\bin\R.exe CMD build --keep-empty-dirs --no-resave-data VanillaICE StartedAt: 2024-06-26 22:31:07 -0400 (Wed, 26 Jun 2024) EndedAt: 2024-06-26 22:33:05 -0400 (Wed, 26 Jun 2024) EllapsedTime: 118.1 seconds RetCode: 0 Status: OK PackageFile: VanillaICE_1.66.0.tar.gz PackageFileSize: 1.799 MiB