Package: VanillaICE Version: 1.66.0 Command: rm -rf VanillaICE.buildbin-libdir && mkdir VanillaICE.buildbin-libdir && F:\biocbuild\bbs-3.19-bioc\R\bin\R.exe CMD INSTALL --build --library=VanillaICE.buildbin-libdir VanillaICE_1.66.0.tar.gz StartedAt: 2024-06-27 09:05:21 -0400 (Thu, 27 Jun 2024) EndedAt: 2024-06-27 09:06:30 -0400 (Thu, 27 Jun 2024) EllapsedTime: 69.0 seconds RetCode: 0 Status: OK PackageFile: VanillaICE_1.66.0.zip PackageFileSize: 2.72 MiB