Package: VanillaICE Version: 1.66.0 Command: /Library/Frameworks/R.framework/Resources/bin/R CMD INSTALL VanillaICE StartedAt: 2024-10-16 15:38:55 -0400 (Wed, 16 Oct 2024) EndedAt: 2024-10-16 15:40:25 -0400 (Wed, 16 Oct 2024) EllapsedTime: 90.1 seconds RetCode: 0 Status: OK